BEGIN:VCALENDAR
VERSION:2.0
PRODID:icalendar-ruby
CALSCALE:GREGORIAN
METHOD:PUBLISH
BEGIN:VEVENT
DTSTAMP:20260420T062458Z
UID:237-1172466@crossroadsmd.org
DTSTART:20260517T143000Z
DTEND:20260517T143500Z
CLASS:PUBLIC
CREATED:20260409T131310
DESCRIPTION:
LAST-MODIFIED:20260409T131310
LOCATION:CrossRoads Church
SUMMARY:Graduate Recognition Sunday
URL;VALUE=URI:https://crossroadsmd.org/events/graduate-recognition-sunday--
 237/2026-05-17
ATTACH;FILENAME=graduate-recognition-sunday-2026-slide.jpg;FMTTYPE=image/jp
 eg:https://dq5pwpg1q8ru0.cloudfront.net/2026/04/09/17/13/10/a1646a69-a03f-
 4bad-b85e-41eb20902175/graduate-recognition-sunday-2026-slide.jpg
END:VEVENT
END:VCALENDAR
