BEGIN:VCALENDAR
VERSION:2.0
PRODID:icalendar-ruby
CALSCALE:GREGORIAN
METHOD:PUBLISH
BEGIN:VEVENT
DTSTAMP:20260423T222415Z
UID:238-1206080@crossroadsmd.org
DTSTART:20260521T230000Z
DTEND:20260522T010000Z
CLASS:PUBLIC
CREATED:20260416T143316
DESCRIPTION:Join the men and leader Marty as they study manhood in the Bibl
 e. \n33 The Series: A Man and His Design - Training Guide is a 6 session
  Bible study that builds upon many of the timeless truths taught by Robert
  Lewis in the original Men's Fraternity curriculum but also includes new m
 aterial on authentic manhood. The series is designed to inspire and equip 
 men to pursue authentic manhood as modeled by Jesus Christ in His 33 years
  on earth. Volume I contains six sessions that explore the basic foundatio
 ns of authentic manhood and God's clear design for men.\nThis first volume
  of 33 starts with meaningful insights into the current state of manhood\,
  which will help men navigate through some realities that have created cul
 tural confusion. It follows by unfolding God's mandates for all men and of
 fering a clear definition of authentic manhood that will help men on their
  journey. Each participant will learn the four "faces" of manhood and how 
 to anticipate and transition through the specific seasons of life.
LAST-MODIFIED:20260416T143316
LOCATION:CRCC Meeting Room
SUMMARY:Men's Group
URL;VALUE=URI:https://crossroadsmd.org/events/mens-group/2026-05-21
ATTACH;FILENAME=Mens Group 33 Series slides3.jpg;FMTTYPE=image/jpeg:https:/
 /dq5pwpg1q8ru0.cloudfront.net/2026/04/16/18/33/16/2e5069cc-1e37-4b10-8030-
 fa3ae268d22b/Mens%20Group%2033%20Series%20slides3.jpg
END:VEVENT
END:VCALENDAR
